BEGIN:VCALENDAR
VERSION:2.0
PRODID:-//Vacationland RV Campground - ECPv6.15.20//NONSGML v1.0//EN
CALSCALE:GREGORIAN
METHOD:PUBLISH
X-ORIGINAL-URL:https://vacationlandrvcampground.com
X-WR-CALDESC:Events for Vacationland RV Campground
REFRESH-INTERVAL;VALUE=DURATION:PT1H
X-Robots-Tag:noindex
X-PUBLISHED-TTL:PT1H
BEGIN:VTIMEZONE
TZID:America/Halifax
BEGIN:DAYLIGHT
TZOFFSETFROM:-0400
TZOFFSETTO:-0300
TZNAME:ADT
DTSTART:20250309T060000
END:DAYLIGHT
BEGIN:STANDARD
TZOFFSETFROM:-0300
TZOFFSETTO:-0400
TZNAME:AST
DTSTART:20251102T050000
END:STANDARD
BEGIN:DAYLIGHT
TZOFFSETFROM:-0400
TZOFFSETTO:-0300
TZNAME:ADT
DTSTART:20260308T060000
END:DAYLIGHT
BEGIN:STANDARD
TZOFFSETFROM:-0300
TZOFFSETTO:-0400
TZNAME:AST
DTSTART:20261101T050000
END:STANDARD
BEGIN:DAYLIGHT
TZOFFSETFROM:-0400
TZOFFSETTO:-0300
TZNAME:ADT
DTSTART:20270314T060000
END:DAYLIGHT
BEGIN:STANDARD
TZOFFSETFROM:-0300
TZOFFSETTO:-0400
TZNAME:AST
DTSTART:20271107T050000
END:STANDARD
END:VTIMEZONE
BEGIN:VEVENT
DTSTART;TZID=America/Halifax:20260627T100000
DTEND;TZID=America/Halifax:20260627T100000
DTSTAMP:20260419T092002
CREATED:20260105T143226Z
LAST-MODIFIED:20260105T143228Z
UID:908-1782554400-1782554400@vacationlandrvcampground.com
SUMMARY:Canada Day Weekend!!
DESCRIPTION:9am-10am Canada Day Craft \n12pm-2pm Canada Day BBQ \n12pm-4pm Party Perfect \n4pm-5:30pm Canada Day Bingo \n7pm Kids Dance \n9:30pm Fireworks!! \n10pm-1am Adult Dance
URL:https://vacationlandrvcampground.com/activities/canada-day-weekend-3/
LOCATION:Rec Hall
END:VEVENT
END:VCALENDAR