BEGIN:VCALENDAR
VERSION:2.0
PRODID:-//Vacationland RV Campground - ECPv6.15.20//NONSGML v1.0//EN
CALSCALE:GREGORIAN
METHOD:PUBLISH
X-ORIGINAL-URL:https://vacationlandrvcampground.com
X-WR-CALDESC:Events for Vacationland RV Campground
REFRESH-INTERVAL;VALUE=DURATION:PT1H
X-Robots-Tag:noindex
X-PUBLISHED-TTL:PT1H
BEGIN:VTIMEZONE
TZID:America/Halifax
BEGIN:DAYLIGHT
TZOFFSETFROM:-0400
TZOFFSETTO:-0300
TZNAME:ADT
DTSTART:20250309T060000
END:DAYLIGHT
BEGIN:STANDARD
TZOFFSETFROM:-0300
TZOFFSETTO:-0400
TZNAME:AST
DTSTART:20251102T050000
END:STANDARD
BEGIN:DAYLIGHT
TZOFFSETFROM:-0400
TZOFFSETTO:-0300
TZNAME:ADT
DTSTART:20260308T060000
END:DAYLIGHT
BEGIN:STANDARD
TZOFFSETFROM:-0300
TZOFFSETTO:-0400
TZNAME:AST
DTSTART:20261101T050000
END:STANDARD
BEGIN:DAYLIGHT
TZOFFSETFROM:-0400
TZOFFSETTO:-0300
TZNAME:ADT
DTSTART:20270314T060000
END:DAYLIGHT
BEGIN:STANDARD
TZOFFSETFROM:-0300
TZOFFSETTO:-0400
TZNAME:AST
DTSTART:20271107T050000
END:STANDARD
END:VTIMEZONE
BEGIN:VEVENT
DTSTART;TZID=America/Halifax:20260808T100000
DTEND;TZID=America/Halifax:20260808T100000
DTSTAMP:20260419T170054
CREATED:20260105T141537Z
LAST-MODIFIED:20260105T141604Z
UID:885-1786183200-1786183200@vacationlandrvcampground.com
SUMMARY:Halloween Weekend!!!
DESCRIPTION:10am-12pm Halloween Crafts \n1pm-2:30pm Halloween Bingo \n4pm Kids Costume Contest \n4:30pm Trick or Treating \n6:30pm Haunted Woods \n10pm-1am Halloween Dance (Adults Only)
URL:https://vacationlandrvcampground.com/activities/halloween-weekend-3/
LOCATION:Rec Hall
END:VEVENT
END:VCALENDAR