BEGIN:VCALENDAR
VERSION:2.0
PRODID:-//Vacationland RV Campground - ECPv6.15.20//NONSGML v1.0//EN
CALSCALE:GREGORIAN
METHOD:PUBLISH
X-WR-CALNAME:Vacationland RV Campground
X-ORIGINAL-URL:https://vacationlandrvcampground.com
X-WR-CALDESC:Events for Vacationland RV Campground
REFRESH-INTERVAL;VALUE=DURATION:PT1H
X-Robots-Tag:noindex
X-PUBLISHED-TTL:PT1H
BEGIN:VTIMEZONE
TZID:America/Halifax
BEGIN:DAYLIGHT
TZOFFSETFROM:-0400
TZOFFSETTO:-0300
TZNAME:ADT
DTSTART:20240310T060000
END:DAYLIGHT
BEGIN:STANDARD
TZOFFSETFROM:-0300
TZOFFSETTO:-0400
TZNAME:AST
DTSTART:20241103T050000
END:STANDARD
BEGIN:DAYLIGHT
TZOFFSETFROM:-0400
TZOFFSETTO:-0300
TZNAME:ADT
DTSTART:20250309T060000
END:DAYLIGHT
BEGIN:STANDARD
TZOFFSETFROM:-0300
TZOFFSETTO:-0400
TZNAME:AST
DTSTART:20251102T050000
END:STANDARD
BEGIN:DAYLIGHT
TZOFFSETFROM:-0400
TZOFFSETTO:-0300
TZNAME:ADT
DTSTART:20260308T060000
END:DAYLIGHT
BEGIN:STANDARD
TZOFFSETFROM:-0300
TZOFFSETTO:-0400
TZNAME:AST
DTSTART:20261101T050000
END:STANDARD
END:VTIMEZONE
BEGIN:VEVENT
DTSTART;TZID=America/Halifax:20250822T210000
DTEND;TZID=America/Halifax:20250822T230000
DTSTAMP:20260419T220624
CREATED:20250729T144350Z
LAST-MODIFIED:20250729T144350Z
UID:755-1755896400-1755903600@vacationlandrvcampground.com
SUMMARY:Trivia Night with Darcy Campbell
DESCRIPTION:
URL:https://vacationlandrvcampground.com/activities/trivia-night-with-darcy-campbell/
LOCATION:Rec Hall
END:VEVENT
BEGIN:VEVENT
DTSTART;TZID=America/Halifax:20250822T170000
DTEND;TZID=America/Halifax:20250822T190000
DTSTAMP:20260419T220624
CREATED:20250219T141425Z
LAST-MODIFIED:20250219T141425Z
UID:548-1755882000-1755889200@vacationlandrvcampground.com
SUMMARY:Kub kar decorating
DESCRIPTION:
URL:https://vacationlandrvcampground.com/activities/kub-kar-decorating/
LOCATION:Rec Hall
END:VEVENT
BEGIN:VEVENT
DTSTART;TZID=America/Halifax:20250821T193000
DTEND;TZID=America/Halifax:20250821T220000
DTSTAMP:20260419T220624
CREATED:20250610T180702Z
LAST-MODIFIED:20250610T180702Z
UID:723-1755804600-1755813600@vacationlandrvcampground.com
SUMMARY:Bingo
DESCRIPTION:
URL:https://vacationlandrvcampground.com/activities/bingo-22/
LOCATION:Rec Hall
END:VEVENT
BEGIN:VEVENT
DTSTART;TZID=America/Halifax:20250820T193000
DTEND;TZID=America/Halifax:20250820T213000
DTSTAMP:20260419T220624
CREATED:20250526T134650Z
LAST-MODIFIED:20250526T134650Z
UID:594-1755718200-1755725400@vacationlandrvcampground.com
SUMMARY:Crib
DESCRIPTION:
URL:https://vacationlandrvcampground.com/activities/crib-12/
LOCATION:Rec Hall
END:VEVENT
BEGIN:VEVENT
DTSTART;TZID=America/Halifax:20250819T193000
DTEND;TZID=America/Halifax:20250819T220000
DTSTAMP:20260419T220624
CREATED:20250610T180248Z
LAST-MODIFIED:20250610T180248Z
UID:711-1755631800-1755640800@vacationlandrvcampground.com
SUMMARY:Bingo
DESCRIPTION:
URL:https://vacationlandrvcampground.com/activities/bingo-20/
LOCATION:Rec Hall
END:VEVENT
BEGIN:VEVENT
DTSTART;TZID=America/Halifax:20250818T170000
DTEND;TZID=America/Halifax:20250818T190000
DTSTAMP:20260419T220624
CREATED:20250526T141451Z
LAST-MODIFIED:20250526T141451Z
UID:652-1755536400-1755543600@vacationlandrvcampground.com
SUMMARY:Candy Bingo
DESCRIPTION:
URL:https://vacationlandrvcampground.com/activities/candy-bingo-11/
LOCATION:Rec Hall
END:VEVENT
BEGIN:VEVENT
DTSTART;TZID=America/Halifax:20250817T130000
DTEND;TZID=America/Halifax:20250817T150000
DTSTAMP:20260419T220624
CREATED:20250526T141234Z
LAST-MODIFIED:20250811T153105Z
UID:649-1755435600-1755442800@vacationlandrvcampground.com
SUMMARY:Candy Bingo
DESCRIPTION:
URL:https://vacationlandrvcampground.com/activities/outdoor-games/
LOCATION:Rec Hall
END:VEVENT
BEGIN:VEVENT
DTSTART;TZID=America/Halifax:20250816T190000
DTEND;TZID=America/Halifax:20250817T010000
DTSTAMP:20260419T220624
CREATED:20250219T140211Z
LAST-MODIFIED:20250811T153020Z
UID:542-1755370800-1755392400@vacationlandrvcampground.com
SUMMARY:Dance with Rock the Island DJ Paul Come as your Partner
DESCRIPTION:Kids 7PM-9PM \nAdults 10PM-1AM \n 
URL:https://vacationlandrvcampground.com/activities/karaoke-with-rock-the-island-dj-paul-3/
LOCATION:Rec Hall
END:VEVENT
BEGIN:VEVENT
DTSTART;TZID=America/Halifax:20250816T130000
DTEND;TZID=America/Halifax:20250816T160000
DTSTAMP:20260419T220624
CREATED:20250811T153226Z
LAST-MODIFIED:20250811T153226Z
UID:768-1755349200-1755360000@vacationlandrvcampground.com
SUMMARY:Outdoor Activity
DESCRIPTION:
URL:https://vacationlandrvcampground.com/activities/outdoor-activity-9/
LOCATION:Rec Hall
END:VEVENT
BEGIN:VEVENT
DTSTART;TZID=America/Halifax:20250815T210000
DTEND;TZID=America/Halifax:20250815T210000
DTSTAMP:20260419T220624
CREATED:20250729T145703Z
LAST-MODIFIED:20250729T145833Z
UID:758-1755291600-1755291600@vacationlandrvcampground.com
SUMMARY:Karaoke with DJ Dave Gaudet
DESCRIPTION:
URL:https://vacationlandrvcampground.com/activities/karaoke-with-dj-dave-gaudet/
LOCATION:Rec Hall
END:VEVENT
BEGIN:VEVENT
DTSTART;TZID=America/Halifax:20250815T170000
DTEND;TZID=America/Halifax:20250815T193000
DTSTAMP:20260419T220624
CREATED:20250526T141102Z
LAST-MODIFIED:20250526T141102Z
UID:645-1755277200-1755286200@vacationlandrvcampground.com
SUMMARY:Craft Activity
DESCRIPTION:
URL:https://vacationlandrvcampground.com/activities/craft-activity-6/
LOCATION:Rec Hall
END:VEVENT
BEGIN:VEVENT
DTSTART;TZID=America/Halifax:20250814T193000
DTEND;TZID=America/Halifax:20250814T220000
DTSTAMP:20260419T220624
CREATED:20250610T180228Z
LAST-MODIFIED:20250610T180228Z
UID:709-1755199800-1755208800@vacationlandrvcampground.com
SUMMARY:Bingo
DESCRIPTION:
URL:https://vacationlandrvcampground.com/activities/bingo-19/
LOCATION:Rec Hall
END:VEVENT
BEGIN:VEVENT
DTSTART;TZID=America/Halifax:20250813T193000
DTEND;TZID=America/Halifax:20250813T213000
DTSTAMP:20260419T220624
CREATED:20250526T134627Z
LAST-MODIFIED:20250526T134627Z
UID:592-1755113400-1755120600@vacationlandrvcampground.com
SUMMARY:Crib
DESCRIPTION:
URL:https://vacationlandrvcampground.com/activities/crib-11/
LOCATION:Rec Hall
END:VEVENT
BEGIN:VEVENT
DTSTART;TZID=America/Halifax:20250813T193000
DTEND;TZID=America/Halifax:20250813T213000
DTSTAMP:20260419T220624
CREATED:20250526T134604Z
LAST-MODIFIED:20250526T134604Z
UID:590-1755113400-1755120600@vacationlandrvcampground.com
SUMMARY:Crib
DESCRIPTION:
URL:https://vacationlandrvcampground.com/activities/crib-10/
LOCATION:Rec Hall
END:VEVENT
BEGIN:VEVENT
DTSTART;TZID=America/Halifax:20250812T193000
DTEND;TZID=America/Halifax:20250812T220000
DTSTAMP:20260419T220624
CREATED:20250610T180208Z
LAST-MODIFIED:20250610T180208Z
UID:707-1755027000-1755036000@vacationlandrvcampground.com
SUMMARY:Bingo
DESCRIPTION:
URL:https://vacationlandrvcampground.com/activities/bingo-18/
LOCATION:Rec Hall
END:VEVENT
BEGIN:VEVENT
DTSTART;TZID=America/Halifax:20250811T170000
DTEND;TZID=America/Halifax:20250811T190000
DTSTAMP:20260419T220624
CREATED:20250526T141032Z
LAST-MODIFIED:20250526T141032Z
UID:643-1754931600-1754938800@vacationlandrvcampground.com
SUMMARY:Candy Bingo
DESCRIPTION:
URL:https://vacationlandrvcampground.com/activities/candy-bingo-10/
LOCATION:Rec Hall
END:VEVENT
BEGIN:VEVENT
DTSTART;TZID=America/Halifax:20250810T130000
DTEND;TZID=America/Halifax:20250810T160000
DTSTAMP:20260419T220624
CREATED:20250526T140925Z
LAST-MODIFIED:20250526T140925Z
UID:641-1754830800-1754841600@vacationlandrvcampground.com
SUMMARY:Outdoor Activity
DESCRIPTION:
URL:https://vacationlandrvcampground.com/activities/outdoor-activity-7/
LOCATION:outside the rec hall
END:VEVENT
BEGIN:VEVENT
DTSTART;TZID=America/Halifax:20250809T130000
DTEND;TZID=America/Halifax:20250810T020000
DTSTAMP:20260419T220624
CREATED:20250211T151910Z
LAST-MODIFIED:20250804T110219Z
UID:491-1754744400-1754791200@vacationlandrvcampground.com
SUMMARY:Halloween Activities
DESCRIPTION:Halloween Kids Bingo (All ages) 1pm-2pm \nHalloween Costume Contest 4pm \nHalloween Trick or Treating 4:30pm \nHaunted Woods 6:30PM-9PM \nKids Dance 7PM-9PM \nSite Judging 9:30PM-10:30PM \nAdult Halloween Dance 10PM-1AM (costume judging at 12:30AM)
URL:https://vacationlandrvcampground.com/activities/halloween-bingo-kids-ages-5-16/
LOCATION:Rec Hall
END:VEVENT
BEGIN:VEVENT
DTSTART;TZID=America/Halifax:20250808T170000
DTEND;TZID=America/Halifax:20250808T190000
DTSTAMP:20260419T220624
CREATED:20250211T151759Z
LAST-MODIFIED:20250211T151759Z
UID:489-1754672400-1754679600@vacationlandrvcampground.com
SUMMARY:Halloween Crafts
DESCRIPTION:
URL:https://vacationlandrvcampground.com/activities/halloween-crafts/
LOCATION:Rec Hall
END:VEVENT
BEGIN:VEVENT
DTSTART;TZID=America/Halifax:20250807T193000
DTEND;TZID=America/Halifax:20250807T220000
DTSTAMP:20260419T220624
CREATED:20250610T180146Z
LAST-MODIFIED:20250610T180146Z
UID:705-1754595000-1754604000@vacationlandrvcampground.com
SUMMARY:Bingo
DESCRIPTION:
URL:https://vacationlandrvcampground.com/activities/bingo-17/
LOCATION:Rec Hall
END:VEVENT
BEGIN:VEVENT
DTSTART;TZID=America/Halifax:20250806T193000
DTEND;TZID=America/Halifax:20250806T213000
DTSTAMP:20260419T220624
CREATED:20250526T134542Z
LAST-MODIFIED:20250526T134542Z
UID:588-1754508600-1754515800@vacationlandrvcampground.com
SUMMARY:Crib
DESCRIPTION:
URL:https://vacationlandrvcampground.com/activities/crib-9/
LOCATION:Rec Hall
END:VEVENT
BEGIN:VEVENT
DTSTART;TZID=America/Halifax:20250805T193000
DTEND;TZID=America/Halifax:20250805T220000
DTSTAMP:20260419T220624
CREATED:20250610T180125Z
LAST-MODIFIED:20250610T180125Z
UID:703-1754422200-1754431200@vacationlandrvcampground.com
SUMMARY:Bingo
DESCRIPTION:
URL:https://vacationlandrvcampground.com/activities/bingo-16/
LOCATION:Rec Hall
END:VEVENT
BEGIN:VEVENT
DTSTART;TZID=America/Halifax:20250804T170000
DTEND;TZID=America/Halifax:20250804T190000
DTSTAMP:20260419T220624
CREATED:20250526T140840Z
LAST-MODIFIED:20250526T140840Z
UID:639-1754326800-1754334000@vacationlandrvcampground.com
SUMMARY:Candy Bingo
DESCRIPTION:
URL:https://vacationlandrvcampground.com/activities/candy-bingo-9/
LOCATION:Rec Hall
END:VEVENT
BEGIN:VEVENT
DTSTART;TZID=America/Halifax:20250803T130000
DTEND;TZID=America/Halifax:20250803T160000
DTSTAMP:20260419T220624
CREATED:20250526T140807Z
LAST-MODIFIED:20250526T140807Z
UID:637-1754226000-1754236800@vacationlandrvcampground.com
SUMMARY:Outdoor Activity
DESCRIPTION:
URL:https://vacationlandrvcampground.com/activities/outdoor-activity-6/
LOCATION:outside the rec hall
END:VEVENT
BEGIN:VEVENT
DTSTART;TZID=America/Halifax:20250802T130000
DTEND;TZID=America/Halifax:20250802T140000
DTSTAMP:20260419T220624
CREATED:20250219T141314Z
LAST-MODIFIED:20250219T141314Z
UID:546-1754139600-1754143200@vacationlandrvcampground.com
SUMMARY:Bike Triathlon
DESCRIPTION:
URL:https://vacationlandrvcampground.com/activities/bike-triathlon/
LOCATION:outside the rec hall
END:VEVENT
BEGIN:VEVENT
DTSTART;TZID=America/Halifax:20250801T170000
DTEND;TZID=America/Halifax:20250801T193000
DTSTAMP:20260419T220624
CREATED:20250526T140720Z
LAST-MODIFIED:20250526T140720Z
UID:635-1754067600-1754076600@vacationlandrvcampground.com
SUMMARY:Craft Activity
DESCRIPTION:
URL:https://vacationlandrvcampground.com/activities/craft-activity-5/
LOCATION:Rec Hall
END:VEVENT
BEGIN:VEVENT
DTSTART;TZID=America/Halifax:20250731T193000
DTEND;TZID=America/Halifax:20250731T220000
DTSTAMP:20260419T220624
CREATED:20250610T180103Z
LAST-MODIFIED:20250610T180103Z
UID:701-1753990200-1753999200@vacationlandrvcampground.com
SUMMARY:Bingo
DESCRIPTION:
URL:https://vacationlandrvcampground.com/activities/bingo-15/
LOCATION:Rec Hall
END:VEVENT
BEGIN:VEVENT
DTSTART;TZID=America/Halifax:20250730T193000
DTEND;TZID=America/Halifax:20250730T213000
DTSTAMP:20260419T220624
CREATED:20250526T134510Z
LAST-MODIFIED:20250526T134510Z
UID:586-1753903800-1753911000@vacationlandrvcampground.com
SUMMARY:Crib
DESCRIPTION:
URL:https://vacationlandrvcampground.com/activities/crib-8/
LOCATION:Rec Hall
END:VEVENT
BEGIN:VEVENT
DTSTART;TZID=America/Halifax:20250729T193000
DTEND;TZID=America/Halifax:20250729T220000
DTSTAMP:20260419T220624
CREATED:20250610T180041Z
LAST-MODIFIED:20250610T180041Z
UID:699-1753817400-1753826400@vacationlandrvcampground.com
SUMMARY:Bingo
DESCRIPTION:
URL:https://vacationlandrvcampground.com/activities/bingo-14/
LOCATION:Rec Hall
END:VEVENT
BEGIN:VEVENT
DTSTART;TZID=America/Halifax:20250728T170000
DTEND;TZID=America/Halifax:20250728T190000
DTSTAMP:20260419T220624
CREATED:20250526T140648Z
LAST-MODIFIED:20250526T140648Z
UID:633-1753722000-1753729200@vacationlandrvcampground.com
SUMMARY:Candy Bingo
DESCRIPTION:
URL:https://vacationlandrvcampground.com/activities/candy-bingo-8/
LOCATION:Rec Hall
END:VEVENT
END:VCALENDAR