BEGIN:VCALENDAR
VERSION:2.0
PRODID:-//Vacationland RV Campground - ECPv6.15.20//NONSGML v1.0//EN
CALSCALE:GREGORIAN
METHOD:PUBLISH
X-WR-CALNAME:Vacationland RV Campground
X-ORIGINAL-URL:https://vacationlandrvcampground.com
X-WR-CALDESC:Events for Vacationland RV Campground
REFRESH-INTERVAL;VALUE=DURATION:PT1H
X-Robots-Tag:noindex
X-PUBLISHED-TTL:PT1H
BEGIN:VTIMEZONE
TZID:America/Halifax
BEGIN:DAYLIGHT
TZOFFSETFROM:-0400
TZOFFSETTO:-0300
TZNAME:ADT
DTSTART:20240310T060000
END:DAYLIGHT
BEGIN:STANDARD
TZOFFSETFROM:-0300
TZOFFSETTO:-0400
TZNAME:AST
DTSTART:20241103T050000
END:STANDARD
BEGIN:DAYLIGHT
TZOFFSETFROM:-0400
TZOFFSETTO:-0300
TZNAME:ADT
DTSTART:20250309T060000
END:DAYLIGHT
BEGIN:STANDARD
TZOFFSETFROM:-0300
TZOFFSETTO:-0400
TZNAME:AST
DTSTART:20251102T050000
END:STANDARD
BEGIN:DAYLIGHT
TZOFFSETFROM:-0400
TZOFFSETTO:-0300
TZNAME:ADT
DTSTART:20260308T060000
END:DAYLIGHT
BEGIN:STANDARD
TZOFFSETFROM:-0300
TZOFFSETTO:-0400
TZNAME:AST
DTSTART:20261101T050000
END:STANDARD
END:VTIMEZONE
BEGIN:VEVENT
DTSTART;TZID=America/Halifax:20250710T193000
DTEND;TZID=America/Halifax:20250710T220000
DTSTAMP:20260420T023646
CREATED:20250610T175847Z
LAST-MODIFIED:20250610T175847Z
UID:689-1752175800-1752184800@vacationlandrvcampground.com
SUMMARY:Bingo
DESCRIPTION:
URL:https://vacationlandrvcampground.com/activities/bingo-9/
LOCATION:Rec Hall
END:VEVENT
BEGIN:VEVENT
DTSTART;TZID=America/Halifax:20250709T193000
DTEND;TZID=America/Halifax:20250709T213000
DTSTAMP:20260420T023646
CREATED:20250526T134359Z
LAST-MODIFIED:20250526T134359Z
UID:580-1752089400-1752096600@vacationlandrvcampground.com
SUMMARY:Crib
DESCRIPTION:
URL:https://vacationlandrvcampground.com/activities/crib-5/
LOCATION:Rec Hall
END:VEVENT
BEGIN:VEVENT
DTSTART;TZID=America/Halifax:20250708T193000
DTEND;TZID=America/Halifax:20250708T220000
DTSTAMP:20260420T023646
CREATED:20250610T175826Z
LAST-MODIFIED:20250610T175826Z
UID:687-1752003000-1752012000@vacationlandrvcampground.com
SUMMARY:Bingo
DESCRIPTION:
URL:https://vacationlandrvcampground.com/activities/bingo-8/
LOCATION:Rec Hall
END:VEVENT
BEGIN:VEVENT
DTSTART;TZID=America/Halifax:20250707T170000
DTEND;TZID=America/Halifax:20250707T193000
DTSTAMP:20260420T023646
CREATED:20250526T140107Z
LAST-MODIFIED:20250526T140107Z
UID:617-1751907600-1751916600@vacationlandrvcampground.com
SUMMARY:Candy Bingo
DESCRIPTION:
URL:https://vacationlandrvcampground.com/activities/candy-bingo-4/
LOCATION:Rec Hall
END:VEVENT
BEGIN:VEVENT
DTSTART;TZID=America/Halifax:20250706T200000
DTEND;TZID=America/Halifax:20250706T220000
DTSTAMP:20260420T023646
CREATED:20250620T165336Z
LAST-MODIFIED:20250620T165336Z
UID:730-1751832000-1751839200@vacationlandrvcampground.com
SUMMARY:Kids Pool Party
DESCRIPTION:
URL:https://vacationlandrvcampground.com/activities/kids-pool-party/
LOCATION:pool
END:VEVENT
BEGIN:VEVENT
DTSTART;TZID=America/Halifax:20250706T130000
DTEND;TZID=America/Halifax:20250706T160000
DTSTAMP:20260420T023646
CREATED:20250526T140025Z
LAST-MODIFIED:20250526T140025Z
UID:615-1751806800-1751817600@vacationlandrvcampground.com
SUMMARY:Outdoor Activity
DESCRIPTION:
URL:https://vacationlandrvcampground.com/activities/outdoor-activity-3/
LOCATION:outside the rec hall
END:VEVENT
BEGIN:VEVENT
DTSTART;TZID=America/Halifax:20250705T190000
DTEND;TZID=America/Halifax:20250705T210000
DTSTAMP:20260420T023646
CREATED:20250211T154515Z
LAST-MODIFIED:20250211T154723Z
UID:514-1751742000-1751749200@vacationlandrvcampground.com
SUMMARY:Dance with Rock the Island DJ Paul
DESCRIPTION:Kids Dance 7PM-9PM \nAdult Dance 10PM-1AM
URL:https://vacationlandrvcampground.com/activities/dance-with-rock-the-island-dj-paul-4/
LOCATION:Rec Hall
END:VEVENT
BEGIN:VEVENT
DTSTART;TZID=America/Halifax:20250705T100000
DTEND;TZID=America/Halifax:20250705T110000
DTSTAMP:20260420T023646
CREATED:20250526T135609Z
LAST-MODIFIED:20250702T122759Z
UID:606-1751709600-1751713200@vacationlandrvcampground.com
SUMMARY:Candy Bingo
DESCRIPTION:
URL:https://vacationlandrvcampground.com/activities/candy-bingo-3/
LOCATION:Rec Hall
END:VEVENT
BEGIN:VEVENT
DTSTART;TZID=America/Halifax:20250704T200000
DTEND;TZID=America/Halifax:20250704T233000
DTSTAMP:20260420T023646
CREATED:20250620T165747Z
LAST-MODIFIED:20250620T165747Z
UID:736-1751659200-1751671800@vacationlandrvcampground.com
SUMMARY:Adult Pool Party
DESCRIPTION:
URL:https://vacationlandrvcampground.com/activities/adult-pool-party-4/
LOCATION:pool
END:VEVENT
BEGIN:VEVENT
DTSTART;TZID=America/Halifax:20250704T170000
DTEND;TZID=America/Halifax:20250704T193000
DTSTAMP:20260420T023646
CREATED:20250526T135708Z
LAST-MODIFIED:20250526T135708Z
UID:608-1751648400-1751657400@vacationlandrvcampground.com
SUMMARY:Craft Activity
DESCRIPTION:
URL:https://vacationlandrvcampground.com/activities/craft-activity/
LOCATION:Rec Hall
END:VEVENT
BEGIN:VEVENT
DTSTART;TZID=America/Halifax:20250703T193000
DTEND;TZID=America/Halifax:20250703T220000
DTSTAMP:20260420T023646
CREATED:20250610T175805Z
LAST-MODIFIED:20250610T175805Z
UID:685-1751571000-1751580000@vacationlandrvcampground.com
SUMMARY:Bingo
DESCRIPTION:
URL:https://vacationlandrvcampground.com/activities/bingo-7/
LOCATION:Rec Hall
END:VEVENT
BEGIN:VEVENT
DTSTART;TZID=America/Halifax:20250702T193000
DTEND;TZID=America/Halifax:20250702T213000
DTSTAMP:20260420T023646
CREATED:20250526T134335Z
LAST-MODIFIED:20250526T134335Z
UID:578-1751484600-1751491800@vacationlandrvcampground.com
SUMMARY:Crib
DESCRIPTION:
URL:https://vacationlandrvcampground.com/activities/crib-4/
END:VEVENT
BEGIN:VEVENT
DTSTART;TZID=America/Halifax:20250701T193000
DTEND;TZID=America/Halifax:20250701T220000
DTSTAMP:20260420T023646
CREATED:20250610T175746Z
LAST-MODIFIED:20250610T175746Z
UID:683-1751398200-1751407200@vacationlandrvcampground.com
SUMMARY:Bingo
DESCRIPTION:
URL:https://vacationlandrvcampground.com/activities/bingo-6/
LOCATION:Rec Hall
END:VEVENT
BEGIN:VEVENT
DTSTART;TZID=America/Halifax:20250630T170000
DTEND;TZID=America/Halifax:20250630T183000
DTSTAMP:20260420T023646
CREATED:20250526T135527Z
LAST-MODIFIED:20250526T135527Z
UID:604-1751302800-1751308200@vacationlandrvcampground.com
SUMMARY:Candy Bingo
DESCRIPTION:
URL:https://vacationlandrvcampground.com/activities/candy-bingo-2/
LOCATION:Rec Hall
END:VEVENT
BEGIN:VEVENT
DTSTART;TZID=America/Halifax:20250628T213000
DTEND;TZID=America/Halifax:20250628T220000
DTSTAMP:20260420T023646
CREATED:20250210T130358Z
LAST-MODIFIED:20250210T130358Z
UID:398-1751146200-1751148000@vacationlandrvcampground.com
SUMMARY:Canada Day Fireworks
DESCRIPTION:
URL:https://vacationlandrvcampground.com/activities/canada-day-fireworks/
END:VEVENT
BEGIN:VEVENT
DTSTART;TZID=America/Halifax:20250628T100000
DTEND;TZID=America/Halifax:20250628T235900
DTSTAMP:20260420T023646
CREATED:20250211T142537Z
LAST-MODIFIED:20250211T150238Z
UID:474-1751104800-1751155140@vacationlandrvcampground.com
SUMMARY:Canada Day Celebrations
DESCRIPTION:Kids Crafts– 10am-12pm \nParty Perfect– 12pm-4m \nKids Canada Bingo– 5pm-6pm \nCanada day Fireworks 9:30pm waterfront \nKids dance 7pm-9pm   Adult Dance 10pm-1pm
URL:https://vacationlandrvcampground.com/activities/canada-day-celebrations/
LOCATION:Rec Hall
END:VEVENT
BEGIN:VEVENT
DTSTART;TZID=America/Halifax:20250627T000000
DTEND;TZID=America/Halifax:20250629T233000
DTSTAMP:20260420T023646
CREATED:20250210T143347Z
LAST-MODIFIED:20250210T143347Z
UID:421-1750982400-1751239800@vacationlandrvcampground.com
SUMMARY:Canada Day Weekend
DESCRIPTION:
URL:https://vacationlandrvcampground.com/activities/canada-day-weekend/
END:VEVENT
BEGIN:VEVENT
DTSTART;TZID=America/Halifax:20250626T193000
DTEND;TZID=America/Halifax:20250626T220000
DTSTAMP:20260420T023646
CREATED:20250610T175721Z
LAST-MODIFIED:20250610T175721Z
UID:681-1750966200-1750975200@vacationlandrvcampground.com
SUMMARY:Bingo
DESCRIPTION:
URL:https://vacationlandrvcampground.com/activities/bingo-5/
LOCATION:Rec Hall
END:VEVENT
BEGIN:VEVENT
DTSTART;TZID=America/Halifax:20250625T193000
DTEND;TZID=America/Halifax:20250625T203000
DTSTAMP:20260420T023646
CREATED:20250526T134255Z
LAST-MODIFIED:20250526T134255Z
UID:576-1750879800-1750883400@vacationlandrvcampground.com
SUMMARY:Crib
DESCRIPTION:
URL:https://vacationlandrvcampground.com/activities/crib-3/
LOCATION:Rec Hall
END:VEVENT
BEGIN:VEVENT
DTSTART;TZID=America/Halifax:20250624T193000
DTEND;TZID=America/Halifax:20250624T220000
DTSTAMP:20260420T023646
CREATED:20250610T175658Z
LAST-MODIFIED:20250610T175658Z
UID:679-1750793400-1750802400@vacationlandrvcampground.com
SUMMARY:Bingo
DESCRIPTION:
URL:https://vacationlandrvcampground.com/activities/bingo-4/
LOCATION:Rec Hall
END:VEVENT
BEGIN:VEVENT
DTSTART;TZID=America/Halifax:20250622T130000
DTEND;TZID=America/Halifax:20250622T160000
DTSTAMP:20260420T023646
CREATED:20250526T135444Z
LAST-MODIFIED:20250526T135444Z
UID:602-1750597200-1750608000@vacationlandrvcampground.com
SUMMARY:Outdoor Activity
DESCRIPTION:
URL:https://vacationlandrvcampground.com/activities/outdoor-activity/
LOCATION:outside the rec hall
END:VEVENT
BEGIN:VEVENT
DTSTART;TZID=America/Halifax:20250621T190000
DTEND;TZID=America/Halifax:20250622T010000
DTSTAMP:20260420T023646
CREATED:20250219T140029Z
LAST-MODIFIED:20250620T175652Z
UID:538-1750532400-1750554000@vacationlandrvcampground.com
SUMMARY:Dance with Rock the Island DJ Paul
DESCRIPTION:Kids 7PM-9PM \nAdults 10PM-1Am
URL:https://vacationlandrvcampground.com/activities/karaoke-with-rock-the-island-dj-paul/
LOCATION:Rec Hall
END:VEVENT
BEGIN:VEVENT
DTSTART;TZID=America/Halifax:20250621T130000
DTEND;TZID=America/Halifax:20250621T143000
DTSTAMP:20260420T023646
CREATED:20250526T135402Z
LAST-MODIFIED:20250526T135402Z
UID:600-1750510800-1750516200@vacationlandrvcampground.com
SUMMARY:Candy Bingo
DESCRIPTION:
URL:https://vacationlandrvcampground.com/activities/candy-bingo/
LOCATION:Rec Hall
END:VEVENT
BEGIN:VEVENT
DTSTART;TZID=America/Halifax:20250620T170000
DTEND;TZID=America/Halifax:20250620T193000
DTSTAMP:20260420T023646
CREATED:20250526T135737Z
LAST-MODIFIED:20250526T135737Z
UID:610-1750438800-1750447800@vacationlandrvcampground.com
SUMMARY:Craft Activity
DESCRIPTION:
URL:https://vacationlandrvcampground.com/activities/craft-activity-2/
LOCATION:Rec Hall
END:VEVENT
BEGIN:VEVENT
DTSTART;TZID=America/Halifax:20250619T193000
DTEND;TZID=America/Halifax:20250619T220000
DTSTAMP:20260420T023646
CREATED:20250610T175635Z
LAST-MODIFIED:20250610T175635Z
UID:677-1750361400-1750370400@vacationlandrvcampground.com
SUMMARY:Bingo
DESCRIPTION:
URL:https://vacationlandrvcampground.com/activities/bingo-3/
LOCATION:Rec Hall
END:VEVENT
BEGIN:VEVENT
DTSTART;TZID=America/Halifax:20250618T193000
DTEND;TZID=America/Halifax:20250618T213000
DTSTAMP:20260420T023646
CREATED:20250526T134212Z
LAST-MODIFIED:20250526T134212Z
UID:574-1750275000-1750282200@vacationlandrvcampground.com
SUMMARY:Crib
DESCRIPTION:
URL:https://vacationlandrvcampground.com/activities/crib-2/
LOCATION:Rec Hall
END:VEVENT
BEGIN:VEVENT
DTSTART;TZID=America/Halifax:20250617T193000
DTEND;TZID=America/Halifax:20250617T220000
DTSTAMP:20260420T023646
CREATED:20250610T175616Z
LAST-MODIFIED:20250610T175616Z
UID:675-1750188600-1750197600@vacationlandrvcampground.com
SUMMARY:Bingo
DESCRIPTION:
URL:https://vacationlandrvcampground.com/activities/bingo-2/
LOCATION:Rec Hall
END:VEVENT
BEGIN:VEVENT
DTSTART;TZID=America/Halifax:20250615T090000
DTEND;TZID=America/Halifax:20250615T110000
DTSTAMP:20260420T023646
CREATED:20250211T142148Z
LAST-MODIFIED:20250211T142148Z
UID:472-1749978000-1749985200@vacationlandrvcampground.com
SUMMARY:Father's Day Pancake Breakfast
DESCRIPTION:
URL:https://vacationlandrvcampground.com/activities/fathers-day-pancake-breakfast/
LOCATION:Rec Hall
END:VEVENT
BEGIN:VEVENT
DTSTART;TZID=America/Halifax:20250614T110000
DTEND;TZID=America/Halifax:20250614T123000
DTSTAMP:20260420T023646
CREATED:20250211T142035Z
LAST-MODIFIED:20250211T142035Z
UID:469-1749898800-1749904200@vacationlandrvcampground.com
SUMMARY:Father's Day Amazing Race
DESCRIPTION:
URL:https://vacationlandrvcampground.com/activities/fathers-day-amazing-race/
LOCATION:Rec Hall
END:VEVENT
BEGIN:VEVENT
DTSTART;TZID=America/Halifax:20250613T173000
DTEND;TZID=America/Halifax:20250613T193000
DTSTAMP:20260420T023646
CREATED:20250211T153102Z
LAST-MODIFIED:20250211T153102Z
UID:499-1749835800-1749843000@vacationlandrvcampground.com
SUMMARY:Father's Day Crafts
DESCRIPTION:
URL:https://vacationlandrvcampground.com/activities/fathers-day-crafts/
LOCATION:Rec Hall
END:VEVENT
END:VCALENDAR