BEGIN:VCALENDAR
VERSION:2.0
PRODID:-//Vacationland RV Campground - ECPv6.15.20//NONSGML v1.0//EN
CALSCALE:GREGORIAN
METHOD:PUBLISH
X-ORIGINAL-URL:https://vacationlandrvcampground.com
X-WR-CALDESC:Events for Vacationland RV Campground
REFRESH-INTERVAL;VALUE=DURATION:PT1H
X-Robots-Tag:noindex
X-PUBLISHED-TTL:PT1H
BEGIN:VTIMEZONE
TZID:America/Halifax
BEGIN:DAYLIGHT
TZOFFSETFROM:-0400
TZOFFSETTO:-0300
TZNAME:ADT
DTSTART:20250309T060000
END:DAYLIGHT
BEGIN:STANDARD
TZOFFSETFROM:-0300
TZOFFSETTO:-0400
TZNAME:AST
DTSTART:20251102T050000
END:STANDARD
BEGIN:DAYLIGHT
TZOFFSETFROM:-0400
TZOFFSETTO:-0300
TZNAME:ADT
DTSTART:20260308T060000
END:DAYLIGHT
BEGIN:STANDARD
TZOFFSETFROM:-0300
TZOFFSETTO:-0400
TZNAME:AST
DTSTART:20261101T050000
END:STANDARD
BEGIN:DAYLIGHT
TZOFFSETFROM:-0400
TZOFFSETTO:-0300
TZNAME:ADT
DTSTART:20270314T060000
END:DAYLIGHT
BEGIN:STANDARD
TZOFFSETFROM:-0300
TZOFFSETTO:-0400
TZNAME:AST
DTSTART:20271107T050000
END:STANDARD
END:VTIMEZONE
BEGIN:VEVENT
DTSTART;TZID=America/Halifax:20260703T183000
DTEND;TZID=America/Halifax:20260703T213000
DTSTAMP:20260419T092133
CREATED:20260105T133053Z
LAST-MODIFIED:20260105T133053Z
UID:843-1783103400-1783114200@vacationlandrvcampground.com
SUMMARY:Paint Night w/East Coast Paints
DESCRIPTION:all ages (alc0hol free)
URL:https://vacationlandrvcampground.com/activities/paint-night-w-east-coast-paints/
LOCATION:Rec Hall
END:VEVENT
BEGIN:VEVENT
DTSTART;TZID=America/Halifax:20260704T190000
DTEND;TZID=America/Halifax:20260704T190000
DTSTAMP:20260419T092133
CREATED:20260105T144044Z
LAST-MODIFIED:20260105T144046Z
UID:918-1783191600-1783191600@vacationlandrvcampground.com
SUMMARY:Dance w/DJ Paul Mckone
DESCRIPTION:kids 7pm-9pm \nAdults 10pm-1am
URL:https://vacationlandrvcampground.com/activities/dance-w-dj-paul-mckone-14/
LOCATION:Rec Hall
END:VEVENT
BEGIN:VEVENT
DTSTART;TZID=America/Halifax:20260709T080000
DTEND;TZID=America/Halifax:20260711T170000
DTSTAMP:20260419T092133
CREATED:20260105T133206Z
LAST-MODIFIED:20260105T133206Z
UID:847-1783584000-1783789200@vacationlandrvcampground.com
SUMMARY:CBMF 3 day event
DESCRIPTION:
URL:https://vacationlandrvcampground.com/activities/cbmf-3-day-event/
END:VEVENT
BEGIN:VEVENT
DTSTART;TZID=America/Halifax:20260718T100000
DTEND;TZID=America/Halifax:20260718T100000
DTSTAMP:20260419T092133
CREATED:20260105T143815Z
LAST-MODIFIED:20260105T143817Z
UID:914-1784368800-1784368800@vacationlandrvcampground.com
SUMMARY:Christmas Weekend!!
DESCRIPTION:9am-10am Christmas Craft \n11am-12pm Christmas Parade \n12pm-2pm Christmas Party \n3pm-4:30pm Christmas Bingo \n7pm-9pm Christmas Dance for kids \n10pm-1am Winter Starlight Dance Adults
URL:https://vacationlandrvcampground.com/activities/christmas-weekend-2/
LOCATION:Rec Hall
END:VEVENT
BEGIN:VEVENT
DTSTART;TZID=America/Halifax:20260724T193000
DTEND;TZID=America/Halifax:20260724T220000
DTSTAMP:20260419T092133
CREATED:20260105T133520Z
LAST-MODIFIED:20260105T133520Z
UID:851-1784921400-1784930400@vacationlandrvcampground.com
SUMMARY:Adult Bingo
DESCRIPTION:
URL:https://vacationlandrvcampground.com/activities/adult-bingo-2/
LOCATION:Rec Hall
END:VEVENT
BEGIN:VEVENT
DTSTART;TZID=America/Halifax:20260725T190000
DTEND;TZID=America/Halifax:20260725T190000
DTSTAMP:20260419T092133
CREATED:20260105T144135Z
LAST-MODIFIED:20260105T144137Z
UID:920-1785006000-1785006000@vacationlandrvcampground.com
SUMMARY:Dance w/DJ Paul Mckone
DESCRIPTION:kids 7pm-9pm \nAdults 10pm-1am
URL:https://vacationlandrvcampground.com/activities/dance-w-dj-paul-mckone-15/
LOCATION:Rec Hall
END:VEVENT
BEGIN:VEVENT
DTSTART;TZID=America/Halifax:20260731T170000
DTEND;TZID=America/Halifax:20260731T170000
DTSTAMP:20260419T092133
CREATED:20260105T143913Z
LAST-MODIFIED:20260105T143915Z
UID:916-1785517200-1785517200@vacationlandrvcampground.com
SUMMARY:Pool Party!!
DESCRIPTION:Kids Pool Party 5pm-8pm \nAdult Pool Party 9pm-12am
URL:https://vacationlandrvcampground.com/activities/pool-party-5/
LOCATION:pool
END:VEVENT
END:VCALENDAR